BEGIN:VCALENDAR
VERSION:2.0
PRODID:-//Data Application Lab
CALSCALE:GREGORIAN
METHOD:PUBLISH
X-WR-CALNAME:Data Application Lab
X-ORIGINAL-URL:https://www.dataapplab.com/event/ds-trend/
X-WR-CALDESC:The Latest Trend of Data Science and Job Orientation
BEGIN:VEVENT
DTSTART:20171210T170000
DTEND:20171210T180000
SUMMARY:The Latest Trend of Data Science and Job Orientation
DESCRIPTION:在数据应用学院主办 的2017 SoCal Data Science Conference上，1500位与会者和60位行业精英，专家教授分享了AI，大数据和数据科学最新的行业现状，最新职位方向以及未来数据科学的发展趋势。
LOCATION:Online Webinar
END:VEVENT
END:VCALENDAR
