BEGIN:VCALENDAR
VERSION:2.0
PRODID:-//Data Application Lab
CALSCALE:GREGORIAN
METHOD:PUBLISH
X-WR-CALNAME:Data Application Lab
X-ORIGINAL-URL:https://www.dataapplab.com/event/live-q-a-with-a-senior-data-scientist/
X-WR-CALDESC:Live Q/A with a Senior Data Scientist | The Advice You Need
BEGIN:VEVENT
DTSTART:20180630T173000
DTEND:20180630T183000
SUMMARY:Live Q/A with a Senior Data Scientist | The Advice You Need
DESCRIPTION:Live Q/A with a Senior Data Scientist | The Advice You Need
LOCATION:Online Webiner
END:VEVENT
END:VCALENDAR
