BEGIN:VCALENDAR
VERSION:2.0
PRODID:-//Data Application Lab
CALSCALE:GREGORIAN
METHOD:PUBLISH
X-WR-CALNAME:Data Application Lab
X-ORIGINAL-URL:https://www.dataapplab.com/event/live-webinar-how-to-apply-h1b-in-2019/
X-WR-CALDESC:Live Webinar: How to Apply H1B in 2019 under New Policies
BEGIN:VEVENT
DTSTART:20190216T140000
DTEND:20190216T150000
SUMMARY:Live Webinar: How to Apply H1B in 2019 under New Policies
DESCRIPTION:我们邀请了律师事务所 Song&Meng PC 与数据应用学院 Data Application Lab 一起为大家做 2019 年 H1B 问题的最全面解答！
LOCATION:Online Webinar
END:VEVENT
END:VCALENDAR
