BEGIN:VCALENDAR
VERSION:2.0
PRODID:-//Data Application Lab
CALSCALE:GREGORIAN
METHOD:PUBLISH
X-WR-CALNAME:Data Application Lab
X-ORIGINAL-URL:https://www.dataapplab.com/event/how-to-help-new-grad-find-a-job/
X-WR-CALDESC:Live Webinar: How to help New Grad find a job?
BEGIN:VEVENT
DTSTART:20190427T100000
DTEND:20190427T110000
SUMMARY:Live Webinar: How to help New Grad find a job?
DESCRIPTION:本周末，数据应用学院带你搞定简历！
LOCATION:
END:VEVENT
END:VCALENDAR
