BEGIN:VCALENDAR
VERSION:2.0
PRODID:-//Data Application Lab
CALSCALE:GREGORIAN
METHOD:PUBLISH
X-WR-CALNAME:Data Application Lab
X-ORIGINAL-URL:https://www.dataapplab.com/event/knowledge-about-two-pointers-and-sliding-window-2/
X-WR-CALDESC:Live Webinar: Knowledge about Two Pointers &#038; Sliding Window Copy
BEGIN:VEVENT
DTSTART:20190518T190000
DTEND:20190518T200000
SUMMARY:Live Webinar: Knowledge about Two Pointers &#038; Sliding Window Copy
DESCRIPTION:从2019年4月13日起，数据应用学院为大家准备了计算机技术求职，神奇的技术面试系列，通过八节课的时间，我们带大家深入浅出搞懂算法&数据结构要怎么搞定！
LOCATION:
END:VEVENT
END:VCALENDAR
