BEGIN:VCALENDAR
VERSION:2.0
PRODID:-//Data Application Lab
CALSCALE:GREGORIAN
METHOD:PUBLISH
X-WR-CALNAME:Data Application Lab
X-ORIGINAL-URL:https://www.dataapplab.com/event/abtesting-tech-disclosure-and-interview-skills/
X-WR-CALDESC:Live Webinar: AB Testing Technology Disclosure and Interview Skills Analysis
BEGIN:VEVENT
DTSTART:20190713T100000
DTEND:20190713T110000
SUMMARY:Live Webinar: AB Testing Technology Disclosure and Interview Skills Analysis
DESCRIPTION:AB Testing 的应用场景；AB Testing的设计，实施和总结的详细讲解。
LOCATION:
END:VEVENT
END:VCALENDAR
