BEGIN:VCALENDAR
VERSION:2.0
PRODID:-//Data Application Lab
CALSCALE:GREGORIAN
METHOD:PUBLISH
X-WR-CALNAME:Data Application Lab
X-ORIGINAL-URL:https://www.dataapplab.com/event/disclosure-of-kaggle-ds-competition/
X-WR-CALDESC:Live Webinar: Disclosure of the Kaggle Data Science Competition
BEGIN:VEVENT
DTSTART:20190706T100000
DTEND:20190706T110000
SUMMARY:Live Webinar: Disclosure of the Kaggle Data Science Competition
DESCRIPTION:整个数据科学项目的标准流程和技术要点；Kaggle竞赛取得好成绩的技巧和经验；了解数据科学工业界最新的发展趋势；秋招求职备战前，你该如何给自己量身定制一份抱佛脚计划？
LOCATION:
END:VEVENT
END:VCALENDAR
