BEGIN:VCALENDAR
VERSION:2.0
PRODID:-//Data Application Lab
CALSCALE:GREGORIAN
METHOD:PUBLISH
X-WR-CALNAME:Data Application Lab
X-ORIGINAL-URL:https://www.dataapplab.com/event/analysis-of-difficulties-in-tech-interview-of-ba/
X-WR-CALDESC:Live Webinar: Analysis of Difficulties in Technical Interview of Business Analysts, Bayesian Statistical Analysis
BEGIN:VEVENT
DTSTART:20190817T100000
DTEND:20190817T110000
SUMMARY:Live Webinar: Analysis of Difficulties in Technical Interview of Business Analysts, Bayesian Statistical Analysis
DESCRIPTION:什么是 Bayesian Stats 以及其特点；贝叶斯法则的介绍和应用；贝叶斯统计在数据分析中的应用。
LOCATION:
END:VEVENT
END:VCALENDAR
