BEGIN:VCALENDAR
VERSION:2.0
PRODID:-//Data Application Lab
CALSCALE:GREGORIAN
METHOD:PUBLISH
X-WR-CALNAME:Data Application Lab
X-ORIGINAL-URL:https://www.dataapplab.com/event/2019-ds-job-search-panel-speech-summary-from-100-ds/
X-WR-CALDESC:Speech Summary From 100 Data Scientists
BEGIN:VEVENT
DTSTART:20191102T100000
DTEND:20191102T110000
SUMMARY:Speech Summary From 100 Data Scientists
DESCRIPTION:数据科学家需要哪些专业技能；技术面试的难点在哪里；如何高效率的在短时间之内提升技能；什么样的简历可以拿到面试机会。
LOCATION:Online Webinar
END:VEVENT
END:VCALENDAR
