BEGIN:VCALENDAR
VERSION:2.0
PRODID:-//Data Application Lab
CALSCALE:GREGORIAN
METHOD:PUBLISH
X-WR-CALNAME:Data Application Lab
X-ORIGINAL-URL:https://www.dataapplab.com/event/what-is-walmart-ds-interview/
X-WR-CALDESC:What is Walmart Data Scientists Interview?
BEGIN:VEVENT
DTSTART:20191116T100000
DTEND:20191116T110000
SUMMARY:What is Walmart Data Scientists Interview?
DESCRIPTION:Walmart数据岗位面试面什么?准备数据科学家求职的过程中要注意什么？一些 Walmart 内部人才知道的经验是什么？你需要怎么样的基础和怎样的进修才能成为合格数据科学家？
LOCATION:Online Webinar
END:VEVENT
END:VCALENDAR
