BEGIN:VCALENDAR
VERSION:2.0
PRODID:-//Data Application Lab
CALSCALE:GREGORIAN
METHOD:PUBLISH
X-WR-CALNAME:Data Application Lab
X-ORIGINAL-URL:https://www.dataapplab.com/event/ds-book-club-book2-ds-for-business-lecture1/
X-WR-CALDESC:DS Book Club Book 2 &#8211; The 1st Lecture of Data Science for Business
BEGIN:VEVENT
DTSTART:20191208T170000
DTEND:20191208T180000
SUMMARY:DS Book Club Book 2 &#8211; The 1st Lecture of Data Science for Business
DESCRIPTION:本书具体内容包括：数据驱动的商业分析，商业问题的数据科学解决方案，预测性建模，过拟合以及如何防止过拟合，聚类算法和相似性，什么是一个好模型，模型表现的可视化，文字处理和向量化，数据科学和商业策略。
LOCATION:Online Webinar
END:VEVENT
END:VCALENDAR
