BEGIN:VCALENDAR
VERSION:2.0
PRODID:-//Data Application Lab
CALSCALE:GREGORIAN
METHOD:PUBLISH
X-WR-CALNAME:Data Application Lab
X-ORIGINAL-URL:https://www.dataapplab.com/event/the-third-save-of-ai-chatbots-with-a-brain/
X-WR-CALDESC:The Third Wave of AI: Chatbots with a Brain
BEGIN:VEVENT
DTSTART:20200118T170000
DTEND:20200118T180000
SUMMARY:The Third Wave of AI: Chatbots with a Brain
DESCRIPTION:This talk will explain how a cognitive architecture approach can overcome many of these limitations and provide a much more intelligent platform for conversation agent. A practical example of this 'third wave' technology will be demonstrated.
LOCATION:Online Webinar
END:VEVENT
END:VCALENDAR
