BEGIN:VCALENDAR
VERSION:2.0
PRODID:-//Data Application Lab
CALSCALE:GREGORIAN
METHOD:PUBLISH
X-WR-CALNAME:Data Application Lab
X-ORIGINAL-URL:https://www.dataapplab.com/event/ds-book-club-book-5-the-4th-lecture-of-learning-big-data-database/
X-WR-CALDESC:DS Book Club Book 5 &#8211; The 4th Lecture of Learning Big Data Database
BEGIN:VEVENT
DTSTART:20200606T170000
DTEND:20200606T180000
SUMMARY:DS Book Club Book 5 &#8211; The 4th Lecture of Learning Big Data Database
DESCRIPTION:本系列读书会讲座以Seven Database In Seven Weeks一书为参考背景， 同时结合其他丛书和数据库信息，探讨数据时代常用的几种数据库。
LOCATION:Online Webinar
END:VEVENT
END:VCALENDAR
