BEGIN:VCALENDAR
VERSION:2.0
PRODID:-//Data Application Lab
CALSCALE:GREGORIAN
METHOD:PUBLISH
X-WR-CALNAME:Data Application Lab
X-ORIGINAL-URL:https://www.dataapplab.com/event/what-is-the-market-basket-analysis/
X-WR-CALDESC:What is the Market Basket Analysis?
BEGIN:VEVENT
DTSTART:20200905T100000
DTEND:20200905T110000
SUMMARY:What is the Market Basket Analysis?
DESCRIPTION:购物篮分析是什么？如何学习和准备相关知识？电商领域面试怎么举一反三？相关案例分析。
LOCATION:Online Webinar
END:VEVENT
END:VCALENDAR
