BEGIN:VCALENDAR
VERSION:2.0
PRODID:-//Data Application Lab
CALSCALE:GREGORIAN
METHOD:PUBLISH
X-WR-CALNAME:Data Application Lab
X-ORIGINAL-URL:https://www.dataapplab.com/event/the-4th-lecture-of-amazon-web-services/
X-WR-CALDESC:The 4th Lecture of Amazon Web Services
BEGIN:VEVENT
DTSTART:20201205T160000
DTEND:20201205T170000
SUMMARY:The 4th Lecture of Amazon Web Services
DESCRIPTION:讲座以Amazon官方的AWS Certified Solutions Architect Study Guide一书参考背景， 同时结合其他学习信息，从基础开始讲解AWS的使用，并能够最终帮助考取相关Certificate。
LOCATION:Online Webinar
END:VEVENT
END:VCALENDAR
