BEGIN:VCALENDAR
VERSION:2.0
PRODID:-//Data Application Lab
CALSCALE:GREGORIAN
METHOD:PUBLISH
X-WR-CALNAME:Data Application Lab
X-ORIGINAL-URL:https://www.dataapplab.com/event/comparison-of-data-job-interview-in-north-america/
X-WR-CALDESC:Comparison of Data Job Interview in North America
BEGIN:VEVENT
DTSTART:20201226T100000
DTEND:20201226T110000
SUMMARY:Comparison of Data Job Interview in North America
DESCRIPTION:Data Scientist/ML Researcher/Scientist, AI Scientist/Engineer;Business Analyst/Data Analyst, Business Intelligence;Software Developer Engineer/Big Data Engineer;
如何准备面试与这些岗位的求职重点有什么不同.
LOCATION:Online Webinar
END:VEVENT
END:VCALENDAR
