BEGIN:VCALENDAR
VERSION:2.0
PRODID:-//Data Application Lab
CALSCALE:GREGORIAN
METHOD:PUBLISH
X-WR-CALNAME:Data Application Lab
X-ORIGINAL-URL:https://www.dataapplab.com/event/ai-pin-2021-h-1b-applicationpay-attention-to-these-changes/
X-WR-CALDESC:AI Pin: 2021 H-1B Application:Pay Attention to These Changes
BEGIN:VEVENT
DTSTART:20210123T170000
DTEND:20210123T180000
SUMMARY:AI Pin: 2021 H-1B Application:Pay Attention to These Changes
DESCRIPTION:在2021年申请H1B的各位同学，有什么需要额外注意的？
LOCATION:Online Webinar
END:VEVENT
END:VCALENDAR
