BEGIN:VCALENDAR
VERSION:2.0
PRODID:-//Data Application Lab
CALSCALE:GREGORIAN
METHOD:PUBLISH
X-WR-CALNAME:Data Application Lab
X-ORIGINAL-URL:https://www.dataapplab.com/event/the-6th-lecture-of-practical-statistics-for-data-scientists/
X-WR-CALDESC:The 6th Lecture of Practical Statistics for Data Scientists
BEGIN:VEVENT
DTSTART:20210327T160000
DTEND:20210327T170000
SUMMARY:The 6th Lecture of Practical Statistics for Data Scientists
DESCRIPTION:讲座以O’Reilly的Practical Statistics for Data Scientists一书参考背景， 同时结合其他学习信息，提供了将统计方法应用于数据科学的实用方法。
LOCATION:Online Webinar
END:VEVENT
END:VCALENDAR
