BEGIN:VCALENDAR
VERSION:2.0
PRODID:-//Data Application Lab
CALSCALE:GREGORIAN
METHOD:PUBLISH
X-WR-CALNAME:Data Application Lab
X-ORIGINAL-URL:https://www.dataapplab.com/event/the-5th-lecture-of-natural-language-processing/
X-WR-CALDESC:The 5th Lecture of Natural Language Processing
BEGIN:VEVENT
DTSTART:20210508T160000
DTEND:20210508T170000
SUMMARY:The 5th Lecture of Natural Language Processing
DESCRIPTION:在本系列讲座中，我们将以O‘Reilly的Natural Language Processing with Python（Steven Bird, Ewan Klein & Edward Loper）一书为参考展开讲述。
LOCATION:Online Webinar
END:VEVENT
END:VCALENDAR
