BEGIN:VCALENDAR
VERSION:2.0
PRODID:-//Data Application Lab
CALSCALE:GREGORIAN
METHOD:PUBLISH
X-WR-CALNAME:Data Application Lab
X-ORIGINAL-URL:https://www.dataapplab.com/event/ai-pin-what-are-facebook-technical-job-interviews/
X-WR-CALDESC:AI Pin: What are Facebook Technical Job Interviews?
BEGIN:VEVENT
DTSTART:20210501T170000
DTEND:20210501T180000
SUMMARY:AI Pin: What are Facebook Technical Job Interviews?
DESCRIPTION:Facebook目前开放的数据类和软件类岗位有哪些？Facebook岗位面试究竟会考什么呢？Product Sense在面试中会如何考察?面试前需要做哪些技术准备？
LOCATION:Online Webinar
END:VEVENT
END:VCALENDAR
