BEGIN:VCALENDAR
VERSION:2.0
PRODID:-//Data Application Lab
CALSCALE:GREGORIAN
METHOD:PUBLISH
X-WR-CALNAME:Data Application Lab
X-ORIGINAL-URL:https://www.dataapplab.com/event/ai-pin-data-job-salary-level-in-silicon-valley/
X-WR-CALDESC:AI Pin: Data Job Salary Level in Silicon Valley
BEGIN:VEVENT
DTSTART:20220212T180000
DTEND:20220212T190000
SUMMARY:AI Pin: Data Job Salary Level in Silicon Valley
DESCRIPTION:本期讲座，我们邀请到资深行业导师，来为大家解读硅谷科技大厂的薪资构成和变化趋势，分析各个数据类岗位的薪资的差异，为大家求职提供专业的指导和建议。
LOCATION:Online Webinar
END:VEVENT
END:VCALENDAR
