BEGIN:VCALENDAR
VERSION:2.0
PRODID:-//Data Application Lab
CALSCALE:GREGORIAN
METHOD:PUBLISH
X-WR-CALNAME:Data Application Lab
X-ORIGINAL-URL:https://www.dataapplab.com/event/lecture-2-paypal-data-job-interview/
X-WR-CALDESC:Lecture 2: Paypal Data Job Interview
BEGIN:VEVENT
DTSTART:20230617T180000
DTEND:20230617T190000
SUMMARY:Lecture 2: Paypal Data Job Interview
DESCRIPTION:AI聘将会通过三期讲座，为大家分析PayPal数据类岗位面试的考察重点，通过面试真题解析，为求职者准备技术面试提供专业的指导意见。
LOCATION:Online Webinar
END:VEVENT
END:VCALENDAR
