BEGIN:VCALENDAR
VERSION:2.0
PRODID:-//Data Application Lab
CALSCALE:GREGORIAN
METHOD:PUBLISH
X-WR-CALNAME:Data Application Lab
X-ORIGINAL-URL:https://www.dataapplab.com/event/learn-llm-agent-in-one-class/
X-WR-CALDESC:Learn LLM Agent in One Class
BEGIN:VEVENT
DTSTART:20260306T190000
DTEND:20260306T200000
SUMMARY:Learn LLM Agent in One Class
DESCRIPTION:本次45分钟网络研讨会将涵盖Agent的原理和应用，这不是面向初学者的演讲，本次课程重点讲解LLMAgent你最需要掌握的知识和开发技能。
LOCATION:Online Webinar
END:VEVENT
END:VCALENDAR
