BEGIN:VCALENDAR
VERSION:2.0
PRODID:-//Data Application Lab
CALSCALE:GREGORIAN
METHOD:PUBLISH
X-WR-CALNAME:Data Application Lab
X-ORIGINAL-URL:https://www.dataapplab.com/event/in-depth-analysis-of-llm-security-issues/
X-WR-CALDESC:In-Depth Analysis of LLM Security Issues
BEGIN:VEVENT
DTSTART:20260424T190000
DTEND:20260424T200000
SUMMARY:In-Depth Analysis of LLM Security Issues
DESCRIPTION:本次研讨会旨在超越浅层探讨，为您提供对LLM安全领域深入且具备技术深度的理解。你将学到：
1. LLM（大型语言模型）威胁概览
2. 核心攻击技术
3. AI 智能体（Agents）中的安全风险
4. 防御策略与安全架构
LOCATION:Online Webinar
END:VEVENT
END:VCALENDAR
